BEGIN:VCALENDAR
VERSION:2.0
PRODID:-// - ECPv6.15.20//NONSGML v1.0//EN
CALSCALE:GREGORIAN
METHOD:PUBLISH
X-ORIGINAL-URL:https://sintjoriskerkdrempt.nl
X-WR-CALDESC:Evenementen voor 
REFRESH-INTERVAL;VALUE=DURATION:PT1H
X-Robots-Tag:noindex
X-PUBLISHED-TTL:PT1H
BEGIN:VTIMEZONE
TZID:UTC
BEGIN:STANDARD
TZOFFSETFROM:+0000
TZOFFSETTO:+0000
TZNAME:UTC
DTSTART:20250101T000000
END:STANDARD
END:VTIMEZONE
BEGIN:VEVENT
DTSTART;TZID=UTC:20260423T110000
DTEND;TZID=UTC:20260426T160000
DTSTAMP:20260424T155358
CREATED:20260222T144321Z
LAST-MODIFIED:20260408T143242Z
UID:1155-1776942000-1777219200@sintjoriskerkdrempt.nl
SUMMARY:Expositie door vijf kunstenaars van WEB Doetinchem
DESCRIPTION:In de Sint-Joriskerk in Drempt door José Botterhuis\, Ineke ter Haar\, Els Lemkes\, Marike Farenhorst en Bas de Jong.\nOpeningstijden: donderdag t/m zondag 11.00 – 16.00 uur. Gratis toegang\, een vrije gift wordt gewaardeerd. \nOnderwerpen die José Botterhuis inspireren zijn onder andere natuur\, vissen\, onderwater en transparantie. Materialen waarmee zij werkt zijn olieverf\, acryl\, aquarel\, krijt en inkt op verschillende ondergronden. Haar ruimtelijke werk maakt zij van keramiek\, voor de grotere kunstwerken experimenteert zij met diverse materialen zoals metaal\, organza en betonklei. Voor haar zijn het twee- en driedimensionale onlosmakelijk met elkaar verbonden. Meer informatie: josebotterhuiskunst.nl \n \n  \nIneke ter Haar\nIn haar werk zoekt ze naar contrasterende verbanden\, door verschillende materialen binnen een bepaalde structuur samen te brengen. Door te werken met textiel\, papier\, verf en materialen uit de industrie ontstaan er verrassende en gewaagde verbindingen. Hierdoor kan de vergankelijkheid van de materie getoond worden. \n  \n \nEls Lemkes\nAan het effen linnen voeg ik een ritme toe door er plooien in te stikken. Hierna span ik het linnen op\, zodat de plooi loodrecht op het weefsel staat. Naast het ritme van de plooi is er ook een ritmische licht-schaduwwerking te zien. Die hangt af van waar het werk hangt of staat en of het werk extra wordt aangelicht. \n  \nMarike Farenhorst werkt met diverse materialen. Ze noemt haar werk tegenwoordig collagetechnieken. Ze combineert textiel\, natuur\, papier\, en wat ze voor handen heeft. Zo ontstaan ‘huiden’. \n  \n  \n  \n  \nIk ben Bas de Jong\, heb gewerkt als interieurarchitect aan gebouwen voor de gezondheidszorg en ben opgeleid aan de kunstacademie. Terug naar waar het hier om gaat. Ik wil die ordening ook weer bevragen of ontregelen omdat daardoor de blik vastgehouden wordt. Zuivere regelmaat en zuivere symmetrie zijn snel saai. De basis voor mijn werk zijn materialen die deze reeksen\, verhuld of niet\, vanuit hun functie in zich hebben. Materialen als golfkarton\, gaas of geweven textiel kunnen daarvoor dienen.
URL:https://sintjoriskerkdrempt.nl/agenda/expositie-web/
CATEGORIES:eendaags
ATTACH;FMTTYPE=image/jpeg:https://sintjoriskerkdrempt.nl/wp-content/uploads/2026/02/P1110800.jpg
END:VEVENT
BEGIN:VEVENT
DTSTART;TZID=UTC:20260430T110000
DTEND;TZID=UTC:20260503T160000
DTSTAMP:20260424T155358
CREATED:20260222T144602Z
LAST-MODIFIED:20260408T144755Z
UID:1159-1777546800-1777824000@sintjoriskerkdrempt.nl
SUMMARY:Expositie Helga Geels en Julia Joosen
DESCRIPTION:In de Sint-Joriskerk in Drempt. Openingstijden: donderdag t/m zaterdag 11.00 – 16.00 uur\, zondag 3 mei vanaf 12.00 uur.\nGratis toegang\, een vrije gift wordt gewaardeerd. \nDe basis van het werk van Helga Geels is figuratief. Vandaar uit is ze steeds abstracter gaan werken. De laatste jaren maakt ze abstract werk\, waarbij ze schilderen combineert met collage- en sjabloontechnieken. Thema’s zijn gelaagdheid en schijnbare ordening die in beeld worden gebracht door herhaling van abstracte vormen en patronen. Het beeld wordt zorgvuldig ontworpen. Bij de uitwerking worden materialen en technieken gebruikt die ambachtelijk zijn en een eigen handschrift laten zien. \n\nJulia Joosen exposeert een aantal abstracte schilderijen in diverse kleur combinaties. De techniek bestaat uit acrylverf op doek. In haar werk vormen vooral reeksen de basis van haar zoektocht naar heldere composities.
URL:https://sintjoriskerkdrempt.nl/agenda/expositie-web-doesburg-2/
CATEGORIES:eendaags
ATTACH;FMTTYPE=image/jpeg:https://sintjoriskerkdrempt.nl/wp-content/uploads/2026/02/thumbnail_IMG_8550.jpg
END:VEVENT
BEGIN:VEVENT
DTSTART;VALUE=DATE:20260730
DTEND;VALUE=DATE:20260824
DTSTAMP:20260424T155358
CREATED:20250515T125727Z
LAST-MODIFIED:20260408T145319Z
UID:895-1785369600-1787529599@sintjoriskerkdrempt.nl
SUMMARY:Exposeren in de Sint-Joriskerk in Drempt?
DESCRIPTION:Er zijn nog twee weekenden vrij: \n30 juli – 2 augustus \n20 – 23 augustus \nOok in de zomer van 2026 kun je weer een expositie houden in de Sint-Joriskerk in Drempt. Gelegen aan de Rijksweg tussen Doesburg en Doetinchem is de kerk een geliefde en goed zichtbare plek voor de fietsende vakantiegangers. De uithangborden Kerk is open en Expositie in de kerk trekken veel bezoekers.\nVoor kunstenaars is het dé ideale plek om hun werk te tonen aan een breed publiek. In de maanden mei t/m oktober is het kerkgebouw beschikbaar voor kunstenaars. Tegen een vergoeding van €130\,- excl. verwarming\, kun je de kerk van donderdag t/m zondag huren als tentoonstellingsruimte. Alleen of met meerdere kunstenaars om er samen een mooie expositie van te maken. De kerk is geopend van 11.00 tot 16.00 uur. \nVan de kunstenaar wordt verwacht: \n\nde expositie in te richten op woensdagmiddag\, anders in overleg en af te breken op zondag na sluiting\naanwezig te zijn gedurende deze vier dagen\ntoezicht te houden op de kerk en met enthousiasme de bezoeker mee te nemen in zijn/haar passie voor kunst.\n\nBen je net zo enthousiast als wij? Neem dan contact met ons op via info@sintjoriskerkdrempt.nl. \nTot snel.
URL:https://sintjoriskerkdrempt.nl/agenda/exposeren-in-de-st-joriskerk-te-voor-drempt/
CATEGORIES:eendaags
ATTACH;FMTTYPE=image/jpeg:https://sintjoriskerkdrempt.nl/wp-content/uploads/2025/05/Collage-expo-scaled.jpg
END:VEVENT
BEGIN:VEVENT
DTSTART;TZID=UTC:20260507T110000
DTEND;TZID=UTC:20260510T160000
DTSTAMP:20260424T155358
CREATED:20260222T144706Z
LAST-MODIFIED:20260408T145056Z
UID:1161-1778151600-1778428800@sintjoriskerkdrempt.nl
SUMMARY:Expositie Helga Geels en Julia Joosen
DESCRIPTION:In de Sint-Joriskerk in Drempt. Openingstijden: donderdag t/m zondag 11.00 – 16.00 uur.\nGratis toegang\, een vrije gift wordt gewaardeerd. \nDe basis van het werk van Helga Geels is figuratief werk. Vandaar uit is ze steeds abstracter gaan werken. De laatste jaren maakt ze abstract werk\, waarbij ze schilderen combineert met collage- en sjabloontechnieken. Thema’s zijn gelaagdheid en schijnbare ordening die in beeld worden gebracht door herhaling van abstracte vormen en patronen. Het beeld wordt zorgvuldig ontworpen. Bij de uitwerking worden materialen en technieken gebruikt die ambachtelijk zijn en een eigen handschrift laten zien. \n\nJulia Joosen exposeert een aantal abstracte schilderijen in diverse kleur combinaties. De techniek bestaat uit acrylverf op doek. In haar werk vormen vooral reeksen de basis van haar zoektocht naar heldere composities.
URL:https://sintjoriskerkdrempt.nl/agenda/expositie-web-doesburg-3/
CATEGORIES:eendaags
ATTACH;FMTTYPE=image/jpeg:https://sintjoriskerkdrempt.nl/wp-content/uploads/2026/02/Julia-Joosen-2.jpg
END:VEVENT
BEGIN:VEVENT
DTSTART;TZID=UTC:20260514T100000
DTEND;TZID=UTC:20260517T170000
DTSTAMP:20260424T155358
CREATED:20260222T145149Z
LAST-MODIFIED:20260326T163723Z
UID:1164-1778752800-1779037200@sintjoriskerkdrempt.nl
SUMMARY:Kunst4daagse Bronckhorst
DESCRIPTION:Tijdens de Kunst4daagse Bronckhorst exposeren vijf kunstenaars in de Sint-Joriskerk in Drempt: Maryan Bömer\, Trudy Dales\, Angelique Gerritsen\, Ali Kleinhuis en Job Veenhof. Meer informatie:  kunst4daagsebronckhorst.nl \n  \n \n 
URL:https://sintjoriskerkdrempt.nl/agenda/expositie-web-doesburg-4/
CATEGORIES:eendaags
ATTACH;FMTTYPE=image/jpeg:https://sintjoriskerkdrempt.nl/wp-content/uploads/2024/01/Kunst4Daagse-Bronckhorst.jpg
END:VEVENT
BEGIN:VEVENT
DTSTART;TZID=UTC:20260521T110000
DTEND;TZID=UTC:20260526T160000
DTSTAMP:20260424T155358
CREATED:20260222T145242Z
LAST-MODIFIED:20260417T061634Z
UID:1166-1779361200-1779811200@sintjoriskerkdrempt.nl
SUMMARY:Expositie Felix Jansen
DESCRIPTION:Tijdens het Pinksterweekeinde exposeert Felix Jansen zijn schilderijen in de Sint-Joriskerk in Drempt.\nOpeningstijden: donderdag t/m maandag 11.00 – 16.00 uur. Gratis toegang\, een vrije gift wordt gewaardeerd. Meer informatie: felix-jansen.nl \nGrounded Art: ‘Ode aan de aarde’\nFelix Jansen laat zijn schilderdoeken omschrijven als Grounded Art. Hij voelt zich het meest verbonden met geaarde\, gegronde kunst. Hij werd jaren geleden geraakt door materieschilderkunst met de aardse kleuren en grove structuren. Daar ligt wat hem betreft ook de basis. Felix heeft zichzelf kunnen ontwikkelen tot een kunstenaar\, die als het ware de schepping van allerlei elementen in de natuur in beeld kan brengen. De schoonheid\, kleuren en vormen van bijvoorbeeld aarde\, gesteenten\, rotsen en fossielen zijn inspiratiebronnen voor zijn schilderwerken. Hij haalt als het ware “voeding” uit de aarde en zet dit om in creatieve energie.  Op ambachtelijke\, scheppende wijze bouwt hij zijn doeken op\, laag voor laag met texturen en vervolgens met kleur. Hierdoor ontstaat er een gelaagdheid en spanning die zijn doeken rijk\, rauw en doorleefd maken. Zijn doeken zijn een eerbetoon aan de schoonheid van de aarde. In deze tijd is het belangrijker dan ooit om ons bewust te zijn van haar kwetsbaarheid. Op zijn exposities laat hij naast zijn schilderdoeken ook videopresentaties zien van natuuropnames (zijn inspiratiebronnen)\, die hij zelf in de loop van de jaren heeft gemaakt.
URL:https://sintjoriskerkdrempt.nl/agenda/expositie-felix-jansen/
LOCATION:Sint Joriskerk\, kerkstraat 1\, Drempt
CATEGORIES:eendaags
ATTACH;FMTTYPE=image/jpeg:https://sintjoriskerkdrempt.nl/wp-content/uploads/2026/02/DSC_0633-1-scaled.jpg
END:VEVENT
BEGIN:VEVENT
DTSTART;VALUE=DATE:20260613
DTEND;VALUE=DATE:20260614
DTSTAMP:20260424T155358
CREATED:20260119T115111Z
LAST-MODIFIED:20260310T120856Z
UID:1146-1781308800-1781395199@sintjoriskerkdrempt.nl
SUMMARY:Achterhoekse Torentocht
DESCRIPTION:Tijdens deze derde editie van de Achterhoekse Torentocht kun je wandelen of fietsen van en naar maar liefst acht kerkgebouwen in de Achterhoek: de Dorpskerk in Hoog-Keppel\, de Sint-Joriskerk in Drempt\, de Remigiuskerk in Steenderen\, de Kapel in Bronkhorst\, de Dorpskerk in Vorden\, de Remigiuskerk in Hengelo\, de Heilige-Antonius-van-Paduakerk in Kranenburg en de Dorpskerk in Hummelo. \nJe kiest zelf of je gaat wandelen of fietsen en je kunt bij alle kerkgebouwen starten en eindigen. Alle kerken dienen\, naast stempelpost\, als rustpunt waar je je waterfles kunt bijvullen en een kopje koffie of thee kunt drinken. Neem ook een kijkje in de kerken! In alle kerken is iets te doen. \nDe deelname is gratis. Je kunt vanaf 10.00 uur starten en om 17.00 uur sluiten de kerkdeuren. Meer informatie over de routes en dergelijke volgt.
URL:https://sintjoriskerkdrempt.nl/agenda/achterhoekse-torentocht/
CATEGORIES:eendaags
ATTACH;FMTTYPE=image/jpeg:https://sintjoriskerkdrempt.nl/wp-content/uploads/2026/01/Achterhoekse-torentocht-2026-agenda-afbeelding.jpg
END:VEVENT
BEGIN:VEVENT
DTSTART;TZID=UTC:20260628T100000
DTEND;TZID=UTC:20260628T110000
DTSTAMP:20260424T155358
CREATED:20260222T150549Z
LAST-MODIFIED:20260316T132411Z
UID:1180-1782640800-1782644400@sintjoriskerkdrempt.nl
SUMMARY:Optreden vrouwenkoor AmaZing
DESCRIPTION:In de Sint-Joriskerk in Drempt zingt het vrouwenkoor AmaZing tijdens de kerkdienst. Dit koor heeft hart voor muziek\, spel & elkaar en zingt mooie\, moderne nummers. Meer informatie: vrouwenkooramazing.nl \nKom je ook luisteren?
URL:https://sintjoriskerkdrempt.nl/agenda/optreden-koor-amazing/
CATEGORIES:eendaags
ATTACH;FMTTYPE=image/jpeg:https://sintjoriskerkdrempt.nl/wp-content/uploads/2026/02/koor-AmaZing.jpg
END:VEVENT
BEGIN:VEVENT
DTSTART;TZID=UTC:20260723T100000
DTEND;TZID=UTC:20260726T170000
DTSTAMP:20260424T155358
CREATED:20260222T150926Z
LAST-MODIFIED:20260408T084454Z
UID:1188-1784800800-1785085200@sintjoriskerkdrempt.nl
SUMMARY:Expositie door vijf kunstenaars
DESCRIPTION:Groepsexpositie van vijf kunstenaars in de Sint-Joriskerk in Drempt: Hannie Nagel\, Virginie van Kempen\, Ineke Rethans\, Rietje Heeling en Truus Peters Hogenkamp. \nHannie Nagel\nDit is het derde jaar dat we exposeren in de Sint-Joriskerk. Dat doen we met veel plezier. We vonden het gezellig en hadden fijne gesprekken met bezoekers die vaak met veel aandacht onze expositie bekeken. We hopen – en gaan er eigenlijk ook wel vanuit – dat we ook dit jaar weer leuke mensen gaan ontmoeten en in gesprek komen over onze expositie. En natuurlijk nemen we onze nieuwe kunstwerken mee. De kunstwerken van mij zullen heel gevarieerd zijn\, want ik werk graag met verschillende materialen. En ook de resultaten van mijn online teken- en schilderclub zullen er weer bij zijn. \nVirginie van Kempen\nBeeldend kunstenaar uit Apeldoorn. In haar atelier maakt zij dierenportretten in pastel en grafiet\, waarin zij het karakter en de uitstraling van het dier probeert vast te leggen. In de ogen probeert zij de “ziel” te vangen.  Naast portretten in opdracht maakt zij ook vrij werk\, geïnspireerd door natuur en dieren. In haar werk staat de bijzondere band tussen mens\, dier en natuur centraal. Voor Virginie zijn dieren een onuitputtelijke bron van inspiratie. Met veel aandacht en gevoel vertaalt zij die liefde voor dieren in haar tekeningen en schilderijen. Meer informatie: ateliervirginie.nl \nIneke Rethans\nIneke houdt van heldere kleuren en combineert deze tot uitbundige creaties. Deze kunnen zowel een figuratieve\, als abstracte basis hebben. Haar inspiratie haalt zij uit de combinaties van kleuren om haar heen. Dit kan iets “uit het leven” zijn\, maar ook een foto. Bij het overbrengen van deze kleursamenstellingen op het doek\, gaat haar penseel als het ware een eigen leven leiden\, met als resultaat haar kleurrijke schilderijen. Ineke maakt ook graag abstracte schilderijen in een gemengde techniek\, vaak met acrylinkt en/of acrylverf. Deze manier van schilderen zorgt ervoor dat zij zich helemaal over kan geven aan haar behoefte om creatief bezig te zijn. \nRietje Heeling\nIk schilder al jaren\, gewoon omdat ik het niet laten kan. Het geeft me rust\, blijheid en het maakt me vrij. Ik vind het geweldig dat ik een groot wit vlak kan veranderen in een kleurenspel dat me boeit. Mijn werk is figuratief met abstracte elementen. Schilderen met liefde en aandacht is mijn motto. Mijn schilderijen zijn gevarieerd en kleurrijk. Er is geen boodschap wel verwondering. De natuur is vaak mijn inspiratiebron. \nTruus Peters Hogenkamp\nTruus schildert sinds 1980 en heeft haar opleiding gevolgd bij Kunststudio Jenny en Anton Homan in Velp. Truus schilderde met aquarel en olieverf\, voornamelijk bloemen en landschappen. Momenteel werkt ze met acryl in diverse technieken en kleurencombinaties. Ook gebruikt ze in haar werk diverse materialen en verschillende lagen om meer diepte en structuur te creëren. Het schilderproces is voor haar werken zonder vooropgezet plan\, een avontuur Het beeld ontstaat tijdens het schilderen. Truus probeert met haar schilderijen de kijker uit te dagen en de fantasie te prikkelen om de kijker zijn of haar eigen interpretatie te geven. Ze vindt het fijn te experimenteren.
URL:https://sintjoriskerkdrempt.nl/agenda/expositie-ineke-retans/
CATEGORIES:eendaags
ATTACH;FMTTYPE=image/png:https://sintjoriskerkdrempt.nl/wp-content/uploads/2026/02/Scherm­afbeelding-2026-04-08-om-10.43.29.png
END:VEVENT
END:VCALENDAR